BEGIN:VCALENDAR
VERSION:2.0
PRODID:-//116.90.60.2//NONSGML kigkonsult.se iCalcreator 2.26.9//
CALSCALE:GREGORIAN
METHOD:PUBLISH
X-WR-CALNAME:Trillion Trees
X-WR-CALDESC:planting trees for the future
X-FROM-URL:https://trilliontrees.org.au
X-WR-TIMEZONE:Australia/Perth
BEGIN:VTIMEZONE
TZID:Australia/Perth
X-LIC-LOCATION:Australia/Perth
BEGIN:STANDARD
DTSTART:20090329T030000
TZOFFSETFROM:+0900
TZOFFSETTO:+0800
TZNAME:AWST
END:STANDARD
END:VTIMEZONE
BEGIN:VEVENT
UID:ai1ec-4270@trilliontrees.org.au
DTSTAMP:20210301T002224Z
CATEGORIES;LANGUAGE=en-AU:Education\,Workshop
CONTACT:08 9250 1888\; contact@trilliontrees.org.au
DESCRIPTION:The Million Trees Program is an activity for young people to di
 scover the value of trees through experiencing growing and planting them a
 t their own school or local area. Thousands of school children in Western 
 Australia have participated in this program.\nFind out how you can become 
 a program coordinator for your local school / group and get started with g
 rowing a generation who will care for the planet. The workshop will cover 
 the resources you need\, how you can do this on a limited budget\, the cha
 llenges and rewards.\nYou are invited to an information sharing workshop –
  Please Note: RSVP Essential by 1st May 2019 | CLICK HERE TO REGISTER or C
 all 08 9250 1888
DTSTART;TZID=Australia/Perth:20190507T153000
DTEND;TZID=Australia/Perth:20190507T173000
GEO:-31.897136;+115.997998
LOCATION:The Studio at Trillion Trees @ LOT 2 Stirling Crescent (Corner Amh
 erst Road)\, Hazelmere WA 6055\, Australia
SEQUENCE:0
SUMMARY:Million Trees Program Information Sharing Workshop
URL:https://trilliontrees.org.au/event/million-trees-program-information-sh
 aring-workshop/
X-COST-TYPE:free
X-ALT-DESC;FMTTYPE=text/html:<!DOCTYPE HTML PUBLIC '-//W3C//DTD HTML 3.2//E
 N'>\\n<HTML>\\n<HEAD>\\n<TITLE></TITLE>\\n</HEAD>\\n<BODY><p>The Million T
 rees Program is an activity for young people to discover the value of tree
 s through experiencing growing and planting them at their own school or lo
 cal area. Thousands of school children in Western Australia have participa
 ted in this program.</p>\n<p>Find out how you can become a program coordin
 ator for your local school / group and get started with growing a generati
 on who will care for the planet. The workshop will cover the resources you
  need\, how you can do this on a limited budget\, the challenges and rewar
 ds.</p>\n<p>You are invited to an information sharing workshop – Please No
 te: <span style='color: #ff0000\;'>RSVP Essential by 1st May 2019</span> |
  <a href='https://trilliontrees.org.au/workshops-courses-talks/' target='_
 blank' rel='noopener noreferrer'>CLICK HERE TO REGISTER</a> or Call 08 925
 0 1888</p>\n</BODY></HTML>
END:VEVENT
END:VCALENDAR
